Workbook

Sheet Übersicht
A1: Urlaubsplaner 2027 – Schleswig-Holstein
A2: Namen und Urlaubsanspruch hier eintragen; die Monatsblätter übernehmen die Namen. Gesetzlicher Mindesturlaub: 24 Werktage (§ 3 BUrlG), bei 5 Arbeitstagen pro Woche 20 Tage. Feiertage Schleswig-Holstein sind in den Monaten blau markiert.
A4: Mitarbeiter | B4: Anspruch | C4: Rest Vorjahr | D4: Genommen | E4: Rest | F4: Krank
A5: Anspruch in Arbeitstagen; Rest Vorjahr nur, wenn übertragen (§ 7 Abs. 3 BUrlG: bis 31. März)
D6: ='Januar'!AG5+'Februar'!AD5+'März'!AG5+'April'!AF5+'Mai'!AG5+'Juni'!AF5+'Juli'!AG5+'August'!AG5+'September'!AF5+'Oktober'!AG5+'November'!AF5+'Dezember'!AG5 | E6: =IF(B6="","",B6+C6-D6) | F6: ='Januar'!AH5+'Februar'!AE5+'März'!AH5+'April'!AG5+'Mai'!AH5+'Juni'!AG5+'Juli'!AH5+'August'!AH5+'September'!AG5+'Oktober'!AH5+'November'!AG5+'Dezember'!AH5
D7: ='Januar'!AG6+'Februar'!AD6+'März'!AG6+'April'!AF6+'Mai'!AG6+'Juni'!AF6+'Juli'!AG6+'August'!AG6+'September'!AF6+'Oktober'!AG6+'November'!AF6+'Dezember'!AG6 | E7: =IF(B7="","",B7+C7-D7) | F7: ='Januar'!AH6+'Februar'!AE6+'März'!AH6+'April'!AG6+'Mai'!AH6+'Juni'!AG6+'Juli'!AH6+'August'!AH6+'September'!AG6+'Oktober'!AH6+'November'!AG6+'Dezember'!AH6
D8: ='Januar'!AG7+'Februar'!AD7+'März'!AG7+'April'!AF7+'Mai'!AG7+'Juni'!AF7+'Juli'!AG7+'August'!AG7+'September'!AF7+'Oktober'!AG7+'November'!AF7+'Dezember'!AG7 | E8: =IF(B8="","",B8+C8-D8) | F8: ='Januar'!AH7+'Februar'!AE7+'März'!AH7+'April'!AG7+'Mai'!AH7+'Juni'!AG7+'Juli'!AH7+'August'!AH7+'September'!AG7+'Oktober'!AH7+'November'!AG7+'Dezember'!AH7
D9: ='Januar'!AG8+'Februar'!AD8+'März'!AG8+'April'!AF8+'Mai'!AG8+'Juni'!AF8+'Juli'!AG8+'August'!AG8+'September'!AF8+'Oktober'!AG8+'November'!AF8+'Dezember'!AG8 | E9: =IF(B9="","",B9+C9-D9) | F9: ='Januar'!AH8+'Februar'!AE8+'März'!AH8+'April'!AG8+'Mai'!AH8+'Juni'!AG8+'Juli'!AH8+'August'!AH8+'September'!AG8+'Oktober'!AH8+'November'!AG8+'Dezember'!AH8
D10: ='Januar'!AG9+'Februar'!AD9+'März'!AG9+'April'!AF9+'Mai'!AG9+'Juni'!AF9+'Juli'!AG9+'August'!AG9+'September'!AF9+'Oktober'!AG9+'November'!AF9+'Dezember'!AG9 | E10: =IF(B10="","",B10+C10-D10) | F10: ='Januar'!AH9+'Februar'!AE9+'März'!AH9+'April'!AG9+'Mai'!AH9+'Juni'!AG9+'Juli'!AH9+'August'!AH9+'September'!AG9+'Oktober'!AH9+'November'!AG9+'Dezember'!AH9
D11: ='Januar'!AG10+'Februar'!AD10+'März'!AG10+'April'!AF10+'Mai'!AG10+'Juni'!AF10+'Juli'!AG10+'August'!AG10+'September'!AF10+'Oktober'!AG10+'November'!AF10+'Dezember'!AG10 | E11: =IF(B11="","",B11+C11-D11) | F11: ='Januar'!AH10+'Februar'!AE10+'März'!AH10+'April'!AG10+'Mai'!AH10+'Juni'!AG10+'Juli'!AH10+'August'!AH10+'September'!AG10+'Oktober'!AH10+'November'!AG10+'Dezember'!AH10
D12: ='Januar'!AG11+'Februar'!AD11+'März'!AG11+'April'!AF11+'Mai'!AG11+'Juni'!AF11+'Juli'!AG11+'August'!AG11+'September'!AF11+'Oktober'!AG11+'November'!AF11+'Dezember'!AG11 | E12: =IF(B12="","",B12+C12-D12) | F12: ='Januar'!AH11+'Februar'!AE11+'März'!AH11+'April'!AG11+'Mai'!AH11+'Juni'!AG11+'Juli'!AH11+'August'!AH11+'September'!AG11+'Oktober'!AH11+'November'!AG11+'Dezember'!AH11
D13: ='Januar'!AG12+'Februar'!AD12+'März'!AG12+'April'!AF12+'Mai'!AG12+'Juni'!AF12+'Juli'!AG12+'August'!AG12+'September'!AF12+'Oktober'!AG12+'November'!AF12+'Dezember'!AG12 | E13: =IF(B13="","",B13+C13-D13) | F13: ='Januar'!AH12+'Februar'!AE12+'März'!AH12+'April'!AG12+'Mai'!AH12+'Juni'!AG12+'Juli'!AH12+'August'!AH12+'September'!AG12+'Oktober'!AH12+'November'!AG12+'Dezember'!AH12
D14: ='Januar'!AG13+'Februar'!AD13+'März'!AG13+'April'!AF13+'Mai'!AG13+'Juni'!AF13+'Juli'!AG13+'August'!AG13+'September'!AF13+'Oktober'!AG13+'November'!AF13+'Dezember'!AG13 | E14: =IF(B14="","",B14+C14-D14) | F14: ='Januar'!AH13+'Februar'!AE13+'März'!AH13+'April'!AG13+'Mai'!AH13+'Juni'!AG13+'Juli'!AH13+'August'!AH13+'September'!AG13+'Oktober'!AH13+'November'!AG13+'Dezember'!AH13
D15: ='Januar'!AG14+'Februar'!AD14+'März'!AG14+'April'!AF14+'Mai'!AG14+'Juni'!AF14+'Juli'!AG14+'August'!AG14+'September'!AF14+'Oktober'!AG14+'November'!AF14+'Dezember'!AG14 | E15: =IF(B15="","",B15+C15-D15) | F15: ='Januar'!AH14+'Februar'!AE14+'März'!AH14+'April'!AG14+'Mai'!AH14+'Juni'!AG14+'Juli'!AH14+'August'!AH14+'September'!AG14+'Oktober'!AH14+'November'!AG14+'Dezember'!AH14
D16: ='Januar'!AG15+'Februar'!AD15+'März'!AG15+'April'!AF15+'Mai'!AG15+'Juni'!AF15+'Juli'!AG15+'August'!AG15+'September'!AF15+'Oktober'!AG15+'November'!AF15+'Dezember'!AG15 | E16: =IF(B16="","",B16+C16-D16) | F16: ='Januar'!AH15+'Februar'!AE15+'März'!AH15+'April'!AG15+'Mai'!AH15+'Juni'!AG15+'Juli'!AH15+'August'!AH15+'September'!AG15+'Oktober'!AH15+'November'!AG15+'Dezember'!AH15
D17: ='Januar'!AG16+'Februar'!AD16+'März'!AG16+'April'!AF16+'Mai'!AG16+'Juni'!AF16+'Juli'!AG16+'August'!AG16+'September'!AF16+'Oktober'!AG16+'November'!AF16+'Dezember'!AG16 | E17: =IF(B17="","",B17+C17-D17) | F17: ='Januar'!AH16+'Februar'!AE16+'März'!AH16+'April'!AG16+'Mai'!AH16+'Juni'!AG16+'Juli'!AH16+'August'!AH16+'September'!AG16+'Oktober'!AH16+'November'!AG16+'Dezember'!AH16
... D30: ='Januar'!AG29+'Februar'!AD29+'März'!AG29+'April'!AF29+'Mai'!AG29+'Juni'!AF29+'Juli'!AG29+'August'!AG29+'September'!AF29+'Oktober'!AG29+'November'!AF29+'Dezember'!AG29 | E30: =IF(B30="","",B30+C30-D30) | F30: ='Januar'!AH29+'Februar'!AE29+'März'!AH29+'April'!AG29+'Mai'!AH29+'Juni'!AG29+'Juli'!AH29+'August'!AH29+'September'!AG29+'Oktober'!AH29+'November'!AG29+'Dezember'!AH29
A32: Feiertage | B32: Datum
A33: Neujahr | B33: 01.01.2027
A34: Karfreitag | B34: 26.03.2027
A35: Ostermontag | B35: 29.03.2027
A36: Tag der Arbeit | B36: 01.05.2027
A37: Christi Himmelfahrt | B37: 06.05.2027
A38: Pfingstmontag | B38: 17.05.2027
A39: Tag der Deutschen Einheit | B39: 03.10.2027
A40: Reformationstag | B40: 31.10.2027
A41: 1. Weihnachtstag | B41: 25.12.2027
A42: 2. Weihnachtstag | B42: 26.12.2027
A44: Urlaubsplaner von irot Time · irot.com/zeit · Urlaub, Feiertage und Arbeitszeit an einer Stelle

Sheet Januar
A1: Urlaubsplaner Januar 2027
A2: U = Urlaub · H = halber Urlaubstag · K = krank · Feiertage: 1. Neujahr
A3: Mitarbeiter | B3: 1 | C3: 2 | D3: 3 | E3: 4 | F3: 5 | G3: 6 | H3: 7 | I3: 8 | J3: 9 | K3: 10 | L3: 11 | M3: 12 | N3: 13 | O3: 14 | P3: 15 | Q3: 16 | R3: 17 | S3: 18 | T3: 19 | U3: 20 | V3: 21 | W3: 22 | X3: 23 | Y3: 24 | Z3: 25 | AA3: 26 | AB3: 27 | AC3: 28 | AD3: 29 | AE3: 30 | AF3: 31 | AG3: Urlaub | AH3: Krank
B4: Fr | C4: Sa | D4: So | E4: Mo | F4: Di | G4: Mi | H4: Do | I4: Fr | J4: Sa | K4: So | L4: Mo | M4: Di | N4: Mi | O4: Do | P4: Fr | Q4: Sa | R4: So | S4: Mo | T4: Di | U4: Mi | V4: Do | W4: Fr | X4: Sa | Y4: So | Z4: Mo | AA4: Di | AB4: Mi | AC4: Do | AD4: Fr | AE4: Sa | AF4: So | AG4: Tage | AH4: Tage
A5: =IF('Übersicht'!A6="","",'Übersicht'!A6) | AG5: =SUMPRODUCT((B5:AF5="U")*B$31:AF$31)+SUMPRODUCT((B5:AF5="H")*B$31:AF$31)/2 | AH5: =COUNTIF(B5:AF5,"K")
A6: =IF('Übersicht'!A7="","",'Übersicht'!A7) | AG6: =SUMPRODUCT((B6:AF6="U")*B$31:AF$31)+SUMPRODUCT((B6:AF6="H")*B$31:AF$31)/2 | AH6: =COUNTIF(B6:AF6,"K")
A7: =IF('Übersicht'!A8="","",'Übersicht'!A8) | AG7: =SUMPRODUCT((B7:AF7="U")*B$31:AF$31)+SUMPRODUCT((B7:AF7="H")*B$31:AF$31)/2 | AH7: =COUNTIF(B7:AF7,"K")
A8: =IF('Übersicht'!A9="","",'Übersicht'!A9) | AG8: =SUMPRODUCT((B8:AF8="U")*B$31:AF$31)+SUMPRODUCT((B8:AF8="H")*B$31:AF$31)/2 | AH8: =COUNTIF(B8:AF8,"K")
A9: =IF('Übersicht'!A10="","",'Übersicht'!A10) | AG9: =SUMPRODUCT((B9:AF9="U")*B$31:AF$31)+SUMPRODUCT((B9:AF9="H")*B$31:AF$31)/2 | AH9: =COUNTIF(B9:AF9,"K")
A10: =IF('Übersicht'!A11="","",'Übersicht'!A11) | AG10: =SUMPRODUCT((B10:AF10="U")*B$31:AF$31)+SUMPRODUCT((B10:AF10="H")*B$31:AF$31)/2 | AH10: =COUNTIF(B10:AF10,"K")
A11: =IF('Übersicht'!A12="","",'Übersicht'!A12) | AG11: =SUMPRODUCT((B11:AF11="U")*B$31:AF$31)+SUMPRODUCT((B11:AF11="H")*B$31:AF$31)/2 | AH11: =COUNTIF(B11:AF11,"K")
A12: =IF('Übersicht'!A13="","",'Übersicht'!A13) | AG12: =SUMPRODUCT((B12:AF12="U")*B$31:AF$31)+SUMPRODUCT((B12:AF12="H")*B$31:AF$31)/2 | AH12: =COUNTIF(B12:AF12,"K")
A13: =IF('Übersicht'!A14="","",'Übersicht'!A14) | AG13: =SUMPRODUCT((B13:AF13="U")*B$31:AF$31)+SUMPRODUCT((B13:AF13="H")*B$31:AF$31)/2 | AH13: =COUNTIF(B13:AF13,"K")
A14: =IF('Übersicht'!A15="","",'Übersicht'!A15) | AG14: =SUMPRODUCT((B14:AF14="U")*B$31:AF$31)+SUMPRODUCT((B14:AF14="H")*B$31:AF$31)/2 | AH14: =COUNTIF(B14:AF14,"K")
A15: =IF('Übersicht'!A16="","",'Übersicht'!A16) | AG15: =SUMPRODUCT((B15:AF15="U")*B$31:AF$31)+SUMPRODUCT((B15:AF15="H")*B$31:AF$31)/2 | AH15: =COUNTIF(B15:AF15,"K")
A16: =IF('Übersicht'!A17="","",'Übersicht'!A17) | AG16: =SUMPRODUCT((B16:AF16="U")*B$31:AF$31)+SUMPRODUCT((B16:AF16="H")*B$31:AF$31)/2 | AH16: =COUNTIF(B16:AF16,"K")
... A29: =IF('Übersicht'!A30="","",'Übersicht'!A30) | AG29: =SUMPRODUCT((B29:AF29="U")*B$31:AF$31)+SUMPRODUCT((B29:AF29="H")*B$31:AF$31)/2 | AH29: =COUNTIF(B29:AF29,"K")
A31: Arbeitstag (1 = zählt als Urlaubstag) | B31: 0 | C31: 0 | D31: 0 | E31: 1 | F31: 1 | G31: 1 | H31: 1 | I31: 1 | J31: 0 | K31: 0 | L31: 1 | M31: 1 | N31: 1 | O31: 1 | P31: 1 | Q31: 0 | R31: 0 | S31: 1 | T31: 1 | U31: 1 | V31: 1 | W31: 1 | X31: 0 | Y31: 0 | Z31: 1 | AA31: 1 | AB31: 1 | AC31: 1 | AD31: 1 | AE31: 0 | AF31: 0
A33: Urlaubsplaner von irot Time · irot.com/zeit · Urlaub, Feiertage und Arbeitszeit an einer Stelle

Sheet Februar
A1: Urlaubsplaner Februar 2027
A2: U = Urlaub · H = halber Urlaubstag · K = krank
A3: Mitarbeiter | B3: 1 | C3: 2 | D3: 3 | E3: 4 | F3: 5 | G3: 6 | H3: 7 | I3: 8 | J3: 9 | K3: 10 | L3: 11 | M3: 12 | N3: 13 | O3: 14 | P3: 15 | Q3: 16 | R3: 17 | S3: 18 | T3: 19 | U3: 20 | V3: 21 | W3: 22 | X3: 23 | Y3: 24 | Z3: 25 | AA3: 26 | AB3: 27 | AC3: 28 | AD3: Urlaub | AE3: Krank
B4: Mo | C4: Di | D4: Mi | E4: Do | F4: Fr | G4: Sa | H4: So | I4: Mo | J4: Di | K4: Mi | L4: Do | M4: Fr | N4: Sa | O4: So | P4: Mo | Q4: Di | R4: Mi | S4: Do | T4: Fr | U4: Sa | V4: So | W4: Mo | X4: Di | Y4: Mi | Z4: Do | AA4: Fr | AB4: Sa | AC4: So | AD4: Tage | AE4: Tage
A5: =IF('Übersicht'!A6="","",'Übersicht'!A6) | AD5: =SUMPRODUCT((B5:AC5="U")*B$31:AC$31)+SUMPRODUCT((B5:AC5="H")*B$31:AC$31)/2 | AE5: =COUNTIF(B5:AC5,"K")
A6: =IF('Übersicht'!A7="","",'Übersicht'!A7) | AD6: =SUMPRODUCT((B6:AC6="U")*B$31:AC$31)+SUMPRODUCT((B6:AC6="H")*B$31:AC$31)/2 | AE6: =COUNTIF(B6:AC6,"K")
A7: =IF('Übersicht'!A8="","",'Übersicht'!A8) | AD7: =SUMPRODUCT((B7:AC7="U")*B$31:AC$31)+SUMPRODUCT((B7:AC7="H")*B$31:AC$31)/2 | AE7: =COUNTIF(B7:AC7,"K")
A8: =IF('Übersicht'!A9="","",'Übersicht'!A9) | AD8: =SUMPRODUCT((B8:AC8="U")*B$31:AC$31)+SUMPRODUCT((B8:AC8="H")*B$31:AC$31)/2 | AE8: =COUNTIF(B8:AC8,"K")
A9: =IF('Übersicht'!A10="","",'Übersicht'!A10) | AD9: =SUMPRODUCT((B9:AC9="U")*B$31:AC$31)+SUMPRODUCT((B9:AC9="H")*B$31:AC$31)/2 | AE9: =COUNTIF(B9:AC9,"K")
A10: =IF('Übersicht'!A11="","",'Übersicht'!A11) | AD10: =SUMPRODUCT((B10:AC10="U")*B$31:AC$31)+SUMPRODUCT((B10:AC10="H")*B$31:AC$31)/2 | AE10: =COUNTIF(B10:AC10,"K")
A11: =IF('Übersicht'!A12="","",'Übersicht'!A12) | AD11: =SUMPRODUCT((B11:AC11="U")*B$31:AC$31)+SUMPRODUCT((B11:AC11="H")*B$31:AC$31)/2 | AE11: =COUNTIF(B11:AC11,"K")
A12: =IF('Übersicht'!A13="","",'Übersicht'!A13) | AD12: =SUMPRODUCT((B12:AC12="U")*B$31:AC$31)+SUMPRODUCT((B12:AC12="H")*B$31:AC$31)/2 | AE12: =COUNTIF(B12:AC12,"K")
A13: =IF('Übersicht'!A14="","",'Übersicht'!A14) | AD13: =SUMPRODUCT((B13:AC13="U")*B$31:AC$31)+SUMPRODUCT((B13:AC13="H")*B$31:AC$31)/2 | AE13: =COUNTIF(B13:AC13,"K")
A14: =IF('Übersicht'!A15="","",'Übersicht'!A15) | AD14: =SUMPRODUCT((B14:AC14="U")*B$31:AC$31)+SUMPRODUCT((B14:AC14="H")*B$31:AC$31)/2 | AE14: =COUNTIF(B14:AC14,"K")
A15: =IF('Übersicht'!A16="","",'Übersicht'!A16) | AD15: =SUMPRODUCT((B15:AC15="U")*B$31:AC$31)+SUMPRODUCT((B15:AC15="H")*B$31:AC$31)/2 | AE15: =COUNTIF(B15:AC15,"K")
A16: =IF('Übersicht'!A17="","",'Übersicht'!A17) | AD16: =SUMPRODUCT((B16:AC16="U")*B$31:AC$31)+SUMPRODUCT((B16:AC16="H")*B$31:AC$31)/2 | AE16: =COUNTIF(B16:AC16,"K")
... A29: =IF('Übersicht'!A30="","",'Übersicht'!A30) | AD29: =SUMPRODUCT((B29:AC29="U")*B$31:AC$31)+SUMPRODUCT((B29:AC29="H")*B$31:AC$31)/2 | AE29: =COUNTIF(B29:AC29,"K")
A31: Arbeitstag (1 = zählt als Urlaubstag) | B31: 1 | C31: 1 | D31: 1 | E31: 1 | F31: 1 | G31: 0 | H31: 0 | I31: 1 | J31: 1 | K31: 1 | L31: 1 | M31: 1 | N31: 0 | O31: 0 | P31: 1 | Q31: 1 | R31: 1 | S31: 1 | T31: 1 | U31: 0 | V31: 0 | W31: 1 | X31: 1 | Y31: 1 | Z31: 1 | AA31: 1 | AB31: 0 | AC31: 0
A33: Urlaubsplaner von irot Time · irot.com/zeit · Urlaub, Feiertage und Arbeitszeit an einer Stelle

Sheet März
A1: Urlaubsplaner März 2027
A2: U = Urlaub · H = halber Urlaubstag · K = krank · Feiertage: 26. Karfreitag · 29. Ostermontag
A3: Mitarbeiter | B3: 1 | C3: 2 | D3: 3 | E3: 4 | F3: 5 | G3: 6 | H3: 7 | I3: 8 | J3: 9 | K3: 10 | L3: 11 | M3: 12 | N3: 13 | O3: 14 | P3: 15 | Q3: 16 | R3: 17 | S3: 18 | T3: 19 | U3: 20 | V3: 21 | W3: 22 | X3: 23 | Y3: 24 | Z3: 25 | AA3: 26 | AB3: 27 | AC3: 28 | AD3: 29 | AE3: 30 | AF3: 31 | AG3: Urlaub | AH3: Krank
B4: Mo | C4: Di | D4: Mi | E4: Do | F4: Fr | G4: Sa | H4: So | I4: Mo | J4: Di | K4: Mi | L4: Do | M4: Fr | N4: Sa | O4: So | P4: Mo | Q4: Di | R4: Mi | S4: Do | T4: Fr | U4: Sa | V4: So | W4: Mo | X4: Di | Y4: Mi | Z4: Do | AA4: Fr | AB4: Sa | AC4: So | AD4: Mo | AE4: Di | AF4: Mi | AG4: Tage | AH4: Tage
A5: =IF('Übersicht'!A6="","",'Übersicht'!A6) | AG5: =SUMPRODUCT((B5:AF5="U")*B$31:AF$31)+SUMPRODUCT((B5:AF5="H")*B$31:AF$31)/2 | AH5: =COUNTIF(B5:AF5,"K")
A6: =IF('Übersicht'!A7="","",'Übersicht'!A7) | AG6: =SUMPRODUCT((B6:AF6="U")*B$31:AF$31)+SUMPRODUCT((B6:AF6="H")*B$31:AF$31)/2 | AH6: =COUNTIF(B6:AF6,"K")
A7: =IF('Übersicht'!A8="","",'Übersicht'!A8) | AG7: =SUMPRODUCT((B7:AF7="U")*B$31:AF$31)+SUMPRODUCT((B7:AF7="H")*B$31:AF$31)/2 | AH7: =COUNTIF(B7:AF7,"K")
A8: =IF('Übersicht'!A9="","",'Übersicht'!A9) | AG8: =SUMPRODUCT((B8:AF8="U")*B$31:AF$31)+SUMPRODUCT((B8:AF8="H")*B$31:AF$31)/2 | AH8: =COUNTIF(B8:AF8,"K")
A9: =IF('Übersicht'!A10="","",'Übersicht'!A10) | AG9: =SUMPRODUCT((B9:AF9="U")*B$31:AF$31)+SUMPRODUCT((B9:AF9="H")*B$31:AF$31)/2 | AH9: =COUNTIF(B9:AF9,"K")
A10: =IF('Übersicht'!A11="","",'Übersicht'!A11) | AG10: =SUMPRODUCT((B10:AF10="U")*B$31:AF$31)+SUMPRODUCT((B10:AF10="H")*B$31:AF$31)/2 | AH10: =COUNTIF(B10:AF10,"K")
A11: =IF('Übersicht'!A12="","",'Übersicht'!A12) | AG11: =SUMPRODUCT((B11:AF11="U")*B$31:AF$31)+SUMPRODUCT((B11:AF11="H")*B$31:AF$31)/2 | AH11: =COUNTIF(B11:AF11,"K")
A12: =IF('Übersicht'!A13="","",'Übersicht'!A13) | AG12: =SUMPRODUCT((B12:AF12="U")*B$31:AF$31)+SUMPRODUCT((B12:AF12="H")*B$31:AF$31)/2 | AH12: =COUNTIF(B12:AF12,"K")
A13: =IF('Übersicht'!A14="","",'Übersicht'!A14) | AG13: =SUMPRODUCT((B13:AF13="U")*B$31:AF$31)+SUMPRODUCT((B13:AF13="H")*B$31:AF$31)/2 | AH13: =COUNTIF(B13:AF13,"K")
A14: =IF('Übersicht'!A15="","",'Übersicht'!A15) | AG14: =SUMPRODUCT((B14:AF14="U")*B$31:AF$31)+SUMPRODUCT((B14:AF14="H")*B$31:AF$31)/2 | AH14: =COUNTIF(B14:AF14,"K")
A15: =IF('Übersicht'!A16="","",'Übersicht'!A16) | AG15: =SUMPRODUCT((B15:AF15="U")*B$31:AF$31)+SUMPRODUCT((B15:AF15="H")*B$31:AF$31)/2 | AH15: =COUNTIF(B15:AF15,"K")
A16: =IF('Übersicht'!A17="","",'Übersicht'!A17) | AG16: =SUMPRODUCT((B16:AF16="U")*B$31:AF$31)+SUMPRODUCT((B16:AF16="H")*B$31:AF$31)/2 | AH16: =COUNTIF(B16:AF16,"K")
... A29: =IF('Übersicht'!A30="","",'Übersicht'!A30) | AG29: =SUMPRODUCT((B29:AF29="U")*B$31:AF$31)+SUMPRODUCT((B29:AF29="H")*B$31:AF$31)/2 | AH29: =COUNTIF(B29:AF29,"K")
A31: Arbeitstag (1 = zählt als Urlaubstag) | B31: 1 | C31: 1 | D31: 1 | E31: 1 | F31: 1 | G31: 0 | H31: 0 | I31: 1 | J31: 1 | K31: 1 | L31: 1 | M31: 1 | N31: 0 | O31: 0 | P31: 1 | Q31: 1 | R31: 1 | S31: 1 | T31: 1 | U31: 0 | V31: 0 | W31: 1 | X31: 1 | Y31: 1 | Z31: 1 | AA31: 0 | AB31: 0 | AC31: 0 | AD31: 0 | AE31: 1 | AF31: 1
A33: Urlaubsplaner von irot Time · irot.com/zeit · Urlaub, Feiertage und Arbeitszeit an einer Stelle

Sheet April
A1: Urlaubsplaner April 2027
A2: U = Urlaub · H = halber Urlaubstag · K = krank
A3: Mitarbeiter | B3: 1 | C3: 2 | D3: 3 | E3: 4 | F3: 5 | G3: 6 | H3: 7 | I3: 8 | J3: 9 | K3: 10 | L3: 11 | M3: 12 | N3: 13 | O3: 14 | P3: 15 | Q3: 16 | R3: 17 | S3: 18 | T3: 19 | U3: 20 | V3: 21 | W3: 22 | X3: 23 | Y3: 24 | Z3: 25 | AA3: 26 | AB3: 27 | AC3: 28 | AD3: 29 | AE3: 30 | AF3: Urlaub | AG3: Krank
B4: Do | C4: Fr | D4: Sa | E4: So | F4: Mo | G4: Di | H4: Mi | I4: Do | J4: Fr | K4: Sa | L4: So | M4: Mo | N4: Di | O4: Mi | P4: Do | Q4: Fr | R4: Sa | S4: So | T4: Mo | U4: Di | V4: Mi | W4: Do | X4: Fr | Y4: Sa | Z4: So | AA4: Mo | AB4: Di | AC4: Mi | AD4: Do | AE4: Fr | AF4: Tage | AG4: Tage
A5: =IF('Übersicht'!A6="","",'Übersicht'!A6) | AF5: =SUMPRODUCT((B5:AE5="U")*B$31:AE$31)+SUMPRODUCT((B5:AE5="H")*B$31:AE$31)/2 | AG5: =COUNTIF(B5:AE5,"K")
A6: =IF('Übersicht'!A7="","",'Übersicht'!A7) | AF6: =SUMPRODUCT((B6:AE6="U")*B$31:AE$31)+SUMPRODUCT((B6:AE6="H")*B$31:AE$31)/2 | AG6: =COUNTIF(B6:AE6,"K")
A7: =IF('Übersicht'!A8="","",'Übersicht'!A8) | AF7: =SUMPRODUCT((B7:AE7="U")*B$31:AE$31)+SUMPRODUCT((B7:AE7="H")*B$31:AE$31)/2 | AG7: =COUNTIF(B7:AE7,"K")
A8: =IF('Übersicht'!A9="","",'Übersicht'!A9) | AF8: =SUMPRODUCT((B8:AE8="U")*B$31:AE$31)+SUMPRODUCT((B8:AE8="H")*B$31:AE$31)/2 | AG8: =COUNTIF(B8:AE8,"K")
A9: =IF('Übersicht'!A10="","",'Übersicht'!A10) | AF9: =SUMPRODUCT((B9:AE9="U")*B$31:AE$31)+SUMPRODUCT((B9:AE9="H")*B$31:AE$31)/2 | AG9: =COUNTIF(B9:AE9,"K")
A10: =IF('Übersicht'!A11="","",'Übersicht'!A11) | AF10: =SUMPRODUCT((B10:AE10="U")*B$31:AE$31)+SUMPRODUCT((B10:AE10="H")*B$31:AE$31)/2 | AG10: =COUNTIF(B10:AE10,"K")
A11: =IF('Übersicht'!A12="","",'Übersicht'!A12) | AF11: =SUMPRODUCT((B11:AE11="U")*B$31:AE$31)+SUMPRODUCT((B11:AE11="H")*B$31:AE$31)/2 | AG11: =COUNTIF(B11:AE11,"K")
A12: =IF('Übersicht'!A13="","",'Übersicht'!A13) | AF12: =SUMPRODUCT((B12:AE12="U")*B$31:AE$31)+SUMPRODUCT((B12:AE12="H")*B$31:AE$31)/2 | AG12: =COUNTIF(B12:AE12,"K")
A13: =IF('Übersicht'!A14="","",'Übersicht'!A14) | AF13: =SUMPRODUCT((B13:AE13="U")*B$31:AE$31)+SUMPRODUCT((B13:AE13="H")*B$31:AE$31)/2 | AG13: =COUNTIF(B13:AE13,"K")
A14: =IF('Übersicht'!A15="","",'Übersicht'!A15) | AF14: =SUMPRODUCT((B14:AE14="U")*B$31:AE$31)+SUMPRODUCT((B14:AE14="H")*B$31:AE$31)/2 | AG14: =COUNTIF(B14:AE14,"K")
A15: =IF('Übersicht'!A16="","",'Übersicht'!A16) | AF15: =SUMPRODUCT((B15:AE15="U")*B$31:AE$31)+SUMPRODUCT((B15:AE15="H")*B$31:AE$31)/2 | AG15: =COUNTIF(B15:AE15,"K")
A16: =IF('Übersicht'!A17="","",'Übersicht'!A17) | AF16: =SUMPRODUCT((B16:AE16="U")*B$31:AE$31)+SUMPRODUCT((B16:AE16="H")*B$31:AE$31)/2 | AG16: =COUNTIF(B16:AE16,"K")
... A29: =IF('Übersicht'!A30="","",'Übersicht'!A30) | AF29: =SUMPRODUCT((B29:AE29="U")*B$31:AE$31)+SUMPRODUCT((B29:AE29="H")*B$31:AE$31)/2 | AG29: =COUNTIF(B29:AE29,"K")
A31: Arbeitstag (1 = zählt als Urlaubstag) | B31: 1 | C31: 1 | D31: 0 | E31: 0 | F31: 1 | G31: 1 | H31: 1 | I31: 1 | J31: 1 | K31: 0 | L31: 0 | M31: 1 | N31: 1 | O31: 1 | P31: 1 | Q31: 1 | R31: 0 | S31: 0 | T31: 1 | U31: 1 | V31: 1 | W31: 1 | X31: 1 | Y31: 0 | Z31: 0 | AA31: 1 | AB31: 1 | AC31: 1 | AD31: 1 | AE31: 1
A33: Urlaubsplaner von irot Time · irot.com/zeit · Urlaub, Feiertage und Arbeitszeit an einer Stelle

Sheet Mai
A1: Urlaubsplaner Mai 2027
A2: U = Urlaub · H = halber Urlaubstag · K = krank · Feiertage: 1. Tag der Arbeit · 6. Christi Himmelfahrt · 17. Pfingstmontag
A3: Mitarbeiter | B3: 1 | C3: 2 | D3: 3 | E3: 4 | F3: 5 | G3: 6 | H3: 7 | I3: 8 | J3: 9 | K3: 10 | L3: 11 | M3: 12 | N3: 13 | O3: 14 | P3: 15 | Q3: 16 | R3: 17 | S3: 18 | T3: 19 | U3: 20 | V3: 21 | W3: 22 | X3: 23 | Y3: 24 | Z3: 25 | AA3: 26 | AB3: 27 | AC3: 28 | AD3: 29 | AE3: 30 | AF3: 31 | AG3: Urlaub | AH3: Krank
B4: Sa | C4: So | D4: Mo | E4: Di | F4: Mi | G4: Do | H4: Fr | I4: Sa | J4: So | K4: Mo | L4: Di | M4: Mi | N4: Do | O4: Fr | P4: Sa | Q4: So | R4: Mo | S4: Di | T4: Mi | U4: Do | V4: Fr | W4: Sa | X4: So | Y4: Mo | Z4: Di | AA4: Mi | AB4: Do | AC4: Fr | AD4: Sa | AE4: So | AF4: Mo | AG4: Tage | AH4: Tage
A5: =IF('Übersicht'!A6="","",'Übersicht'!A6) | AG5: =SUMPRODUCT((B5:AF5="U")*B$31:AF$31)+SUMPRODUCT((B5:AF5="H")*B$31:AF$31)/2 | AH5: =COUNTIF(B5:AF5,"K")
A6: =IF('Übersicht'!A7="","",'Übersicht'!A7) | AG6: =SUMPRODUCT((B6:AF6="U")*B$31:AF$31)+SUMPRODUCT((B6:AF6="H")*B$31:AF$31)/2 | AH6: =COUNTIF(B6:AF6,"K")
A7: =IF('Übersicht'!A8="","",'Übersicht'!A8) | AG7: =SUMPRODUCT((B7:AF7="U")*B$31:AF$31)+SUMPRODUCT((B7:AF7="H")*B$31:AF$31)/2 | AH7: =COUNTIF(B7:AF7,"K")
A8: =IF('Übersicht'!A9="","",'Übersicht'!A9) | AG8: =SUMPRODUCT((B8:AF8="U")*B$31:AF$31)+SUMPRODUCT((B8:AF8="H")*B$31:AF$31)/2 | AH8: =COUNTIF(B8:AF8,"K")
A9: =IF('Übersicht'!A10="","",'Übersicht'!A10) | AG9: =SUMPRODUCT((B9:AF9="U")*B$31:AF$31)+SUMPRODUCT((B9:AF9="H")*B$31:AF$31)/2 | AH9: =COUNTIF(B9:AF9,"K")
A10: =IF('Übersicht'!A11="","",'Übersicht'!A11) | AG10: =SUMPRODUCT((B10:AF10="U")*B$31:AF$31)+SUMPRODUCT((B10:AF10="H")*B$31:AF$31)/2 | AH10: =COUNTIF(B10:AF10,"K")
A11: =IF('Übersicht'!A12="","",'Übersicht'!A12) | AG11: =SUMPRODUCT((B11:AF11="U")*B$31:AF$31)+SUMPRODUCT((B11:AF11="H")*B$31:AF$31)/2 | AH11: =COUNTIF(B11:AF11,"K")
A12: =IF('Übersicht'!A13="","",'Übersicht'!A13) | AG12: =SUMPRODUCT((B12:AF12="U")*B$31:AF$31)+SUMPRODUCT((B12:AF12="H")*B$31:AF$31)/2 | AH12: =COUNTIF(B12:AF12,"K")
A13: =IF('Übersicht'!A14="","",'Übersicht'!A14) | AG13: =SUMPRODUCT((B13:AF13="U")*B$31:AF$31)+SUMPRODUCT((B13:AF13="H")*B$31:AF$31)/2 | AH13: =COUNTIF(B13:AF13,"K")
A14: =IF('Übersicht'!A15="","",'Übersicht'!A15) | AG14: =SUMPRODUCT((B14:AF14="U")*B$31:AF$31)+SUMPRODUCT((B14:AF14="H")*B$31:AF$31)/2 | AH14: =COUNTIF(B14:AF14,"K")
A15: =IF('Übersicht'!A16="","",'Übersicht'!A16) | AG15: =SUMPRODUCT((B15:AF15="U")*B$31:AF$31)+SUMPRODUCT((B15:AF15="H")*B$31:AF$31)/2 | AH15: =COUNTIF(B15:AF15,"K")
A16: =IF('Übersicht'!A17="","",'Übersicht'!A17) | AG16: =SUMPRODUCT((B16:AF16="U")*B$31:AF$31)+SUMPRODUCT((B16:AF16="H")*B$31:AF$31)/2 | AH16: =COUNTIF(B16:AF16,"K")
... A29: =IF('Übersicht'!A30="","",'Übersicht'!A30) | AG29: =SUMPRODUCT((B29:AF29="U")*B$31:AF$31)+SUMPRODUCT((B29:AF29="H")*B$31:AF$31)/2 | AH29: =COUNTIF(B29:AF29,"K")
A31: Arbeitstag (1 = zählt als Urlaubstag) | B31: 0 | C31: 0 | D31: 1 | E31: 1 | F31: 1 | G31: 0 | H31: 1 | I31: 0 | J31: 0 | K31: 1 | L31: 1 | M31: 1 | N31: 1 | O31: 1 | P31: 0 | Q31: 0 | R31: 0 | S31: 1 | T31: 1 | U31: 1 | V31: 1 | W31: 0 | X31: 0 | Y31: 1 | Z31: 1 | AA31: 1 | AB31: 1 | AC31: 1 | AD31: 0 | AE31: 0 | AF31: 1
A33: Urlaubsplaner von irot Time · irot.com/zeit · Urlaub, Feiertage und Arbeitszeit an einer Stelle

Sheet Juni
A1: Urlaubsplaner Juni 2027
A2: U = Urlaub · H = halber Urlaubstag · K = krank
A3: Mitarbeiter | B3: 1 | C3: 2 | D3: 3 | E3: 4 | F3: 5 | G3: 6 | H3: 7 | I3: 8 | J3: 9 | K3: 10 | L3: 11 | M3: 12 | N3: 13 | O3: 14 | P3: 15 | Q3: 16 | R3: 17 | S3: 18 | T3: 19 | U3: 20 | V3: 21 | W3: 22 | X3: 23 | Y3: 24 | Z3: 25 | AA3: 26 | AB3: 27 | AC3: 28 | AD3: 29 | AE3: 30 | AF3: Urlaub | AG3: Krank
B4: Di | C4: Mi | D4: Do | E4: Fr | F4: Sa | G4: So | H4: Mo | I4: Di | J4: Mi | K4: Do | L4: Fr | M4: Sa | N4: So | O4: Mo | P4: Di | Q4: Mi | R4: Do | S4: Fr | T4: Sa | U4: So | V4: Mo | W4: Di | X4: Mi | Y4: Do | Z4: Fr | AA4: Sa | AB4: So | AC4: Mo | AD4: Di | AE4: Mi | AF4: Tage | AG4: Tage
A5: =IF('Übersicht'!A6="","",'Übersicht'!A6) | AF5: =SUMPRODUCT((B5:AE5="U")*B$31:AE$31)+SUMPRODUCT((B5:AE5="H")*B$31:AE$31)/2 | AG5: =COUNTIF(B5:AE5,"K")
A6: =IF('Übersicht'!A7="","",'Übersicht'!A7) | AF6: =SUMPRODUCT((B6:AE6="U")*B$31:AE$31)+SUMPRODUCT((B6:AE6="H")*B$31:AE$31)/2 | AG6: =COUNTIF(B6:AE6,"K")
A7: =IF('Übersicht'!A8="","",'Übersicht'!A8) | AF7: =SUMPRODUCT((B7:AE7="U")*B$31:AE$31)+SUMPRODUCT((B7:AE7="H")*B$31:AE$31)/2 | AG7: =COUNTIF(B7:AE7,"K")
A8: =IF('Übersicht'!A9="","",'Übersicht'!A9) | AF8: =SUMPRODUCT((B8:AE8="U")*B$31:AE$31)+SUMPRODUCT((B8:AE8="H")*B$31:AE$31)/2 | AG8: =COUNTIF(B8:AE8,"K")
A9: =IF('Übersicht'!A10="","",'Übersicht'!A10) | AF9: =SUMPRODUCT((B9:AE9="U")*B$31:AE$31)+SUMPRODUCT((B9:AE9="H")*B$31:AE$31)/2 | AG9: =COUNTIF(B9:AE9,"K")
A10: =IF('Übersicht'!A11="","",'Übersicht'!A11) | AF10: =SUMPRODUCT((B10:AE10="U")*B$31:AE$31)+SUMPRODUCT((B10:AE10="H")*B$31:AE$31)/2 | AG10: =COUNTIF(B10:AE10,"K")
A11: =IF('Übersicht'!A12="","",'Übersicht'!A12) | AF11: =SUMPRODUCT((B11:AE11="U")*B$31:AE$31)+SUMPRODUCT((B11:AE11="H")*B$31:AE$31)/2 | AG11: =COUNTIF(B11:AE11,"K")
A12: =IF('Übersicht'!A13="","",'Übersicht'!A13) | AF12: =SUMPRODUCT((B12:AE12="U")*B$31:AE$31)+SUMPRODUCT((B12:AE12="H")*B$31:AE$31)/2 | AG12: =COUNTIF(B12:AE12,"K")
A13: =IF('Übersicht'!A14="","",'Übersicht'!A14) | AF13: =SUMPRODUCT((B13:AE13="U")*B$31:AE$31)+SUMPRODUCT((B13:AE13="H")*B$31:AE$31)/2 | AG13: =COUNTIF(B13:AE13,"K")
A14: =IF('Übersicht'!A15="","",'Übersicht'!A15) | AF14: =SUMPRODUCT((B14:AE14="U")*B$31:AE$31)+SUMPRODUCT((B14:AE14="H")*B$31:AE$31)/2 | AG14: =COUNTIF(B14:AE14,"K")
A15: =IF('Übersicht'!A16="","",'Übersicht'!A16) | AF15: =SUMPRODUCT((B15:AE15="U")*B$31:AE$31)+SUMPRODUCT((B15:AE15="H")*B$31:AE$31)/2 | AG15: =COUNTIF(B15:AE15,"K")
A16: =IF('Übersicht'!A17="","",'Übersicht'!A17) | AF16: =SUMPRODUCT((B16:AE16="U")*B$31:AE$31)+SUMPRODUCT((B16:AE16="H")*B$31:AE$31)/2 | AG16: =COUNTIF(B16:AE16,"K")
... A29: =IF('Übersicht'!A30="","",'Übersicht'!A30) | AF29: =SUMPRODUCT((B29:AE29="U")*B$31:AE$31)+SUMPRODUCT((B29:AE29="H")*B$31:AE$31)/2 | AG29: =COUNTIF(B29:AE29,"K")
A31: Arbeitstag (1 = zählt als Urlaubstag) | B31: 1 | C31: 1 | D31: 1 | E31: 1 | F31: 0 | G31: 0 | H31: 1 | I31: 1 | J31: 1 | K31: 1 | L31: 1 | M31: 0 | N31: 0 | O31: 1 | P31: 1 | Q31: 1 | R31: 1 | S31: 1 | T31: 0 | U31: 0 | V31: 1 | W31: 1 | X31: 1 | Y31: 1 | Z31: 1 | AA31: 0 | AB31: 0 | AC31: 1 | AD31: 1 | AE31: 1
A33: Urlaubsplaner von irot Time · irot.com/zeit · Urlaub, Feiertage und Arbeitszeit an einer Stelle

Sheet Juli
A1: Urlaubsplaner Juli 2027
A2: U = Urlaub · H = halber Urlaubstag · K = krank
A3: Mitarbeiter | B3: 1 | C3: 2 | D3: 3 | E3: 4 | F3: 5 | G3: 6 | H3: 7 | I3: 8 | J3: 9 | K3: 10 | L3: 11 | M3: 12 | N3: 13 | O3: 14 | P3: 15 | Q3: 16 | R3: 17 | S3: 18 | T3: 19 | U3: 20 | V3: 21 | W3: 22 | X3: 23 | Y3: 24 | Z3: 25 | AA3: 26 | AB3: 27 | AC3: 28 | AD3: 29 | AE3: 30 | AF3: 31 | AG3: Urlaub | AH3: Krank
B4: Do | C4: Fr | D4: Sa | E4: So | F4: Mo | G4: Di | H4: Mi | I4: Do | J4: Fr | K4: Sa | L4: So | M4: Mo | N4: Di | O4: Mi | P4: Do | Q4: Fr | R4: Sa | S4: So | T4: Mo | U4: Di | V4: Mi | W4: Do | X4: Fr | Y4: Sa | Z4: So | AA4: Mo | AB4: Di | AC4: Mi | AD4: Do | AE4: Fr | AF4: Sa | AG4: Tage | AH4: Tage
A5: =IF('Übersicht'!A6="","",'Übersicht'!A6) | AG5: =SUMPRODUCT((B5:AF5="U")*B$31:AF$31)+SUMPRODUCT((B5:AF5="H")*B$31:AF$31)/2 | AH5: =COUNTIF(B5:AF5,"K")
A6: =IF('Übersicht'!A7="","",'Übersicht'!A7) | AG6: =SUMPRODUCT((B6:AF6="U")*B$31:AF$31)+SUMPRODUCT((B6:AF6="H")*B$31:AF$31)/2 | AH6: =COUNTIF(B6:AF6,"K")
A7: =IF('Übersicht'!A8="","",'Übersicht'!A8) | AG7: =SUMPRODUCT((B7:AF7="U")*B$31:AF$31)+SUMPRODUCT((B7:AF7="H")*B$31:AF$31)/2 | AH7: =COUNTIF(B7:AF7,"K")
A8: =IF('Übersicht'!A9="","",'Übersicht'!A9) | AG8: =SUMPRODUCT((B8:AF8="U")*B$31:AF$31)+SUMPRODUCT((B8:AF8="H")*B$31:AF$31)/2 | AH8: =COUNTIF(B8:AF8,"K")
A9: =IF('Übersicht'!A10="","",'Übersicht'!A10) | AG9: =SUMPRODUCT((B9:AF9="U")*B$31:AF$31)+SUMPRODUCT((B9:AF9="H")*B$31:AF$31)/2 | AH9: =COUNTIF(B9:AF9,"K")
A10: =IF('Übersicht'!A11="","",'Übersicht'!A11) | AG10: =SUMPRODUCT((B10:AF10="U")*B$31:AF$31)+SUMPRODUCT((B10:AF10="H")*B$31:AF$31)/2 | AH10: =COUNTIF(B10:AF10,"K")
A11: =IF('Übersicht'!A12="","",'Übersicht'!A12) | AG11: =SUMPRODUCT((B11:AF11="U")*B$31:AF$31)+SUMPRODUCT((B11:AF11="H")*B$31:AF$31)/2 | AH11: =COUNTIF(B11:AF11,"K")
A12: =IF('Übersicht'!A13="","",'Übersicht'!A13) | AG12: =SUMPRODUCT((B12:AF12="U")*B$31:AF$31)+SUMPRODUCT((B12:AF12="H")*B$31:AF$31)/2 | AH12: =COUNTIF(B12:AF12,"K")
A13: =IF('Übersicht'!A14="","",'Übersicht'!A14) | AG13: =SUMPRODUCT((B13:AF13="U")*B$31:AF$31)+SUMPRODUCT((B13:AF13="H")*B$31:AF$31)/2 | AH13: =COUNTIF(B13:AF13,"K")
A14: =IF('Übersicht'!A15="","",'Übersicht'!A15) | AG14: =SUMPRODUCT((B14:AF14="U")*B$31:AF$31)+SUMPRODUCT((B14:AF14="H")*B$31:AF$31)/2 | AH14: =COUNTIF(B14:AF14,"K")
A15: =IF('Übersicht'!A16="","",'Übersicht'!A16) | AG15: =SUMPRODUCT((B15:AF15="U")*B$31:AF$31)+SUMPRODUCT((B15:AF15="H")*B$31:AF$31)/2 | AH15: =COUNTIF(B15:AF15,"K")
A16: =IF('Übersicht'!A17="","",'Übersicht'!A17) | AG16: =SUMPRODUCT((B16:AF16="U")*B$31:AF$31)+SUMPRODUCT((B16:AF16="H")*B$31:AF$31)/2 | AH16: =COUNTIF(B16:AF16,"K")
... A29: =IF('Übersicht'!A30="","",'Übersicht'!A30) | AG29: =SUMPRODUCT((B29:AF29="U")*B$31:AF$31)+SUMPRODUCT((B29:AF29="H")*B$31:AF$31)/2 | AH29: =COUNTIF(B29:AF29,"K")
A31: Arbeitstag (1 = zählt als Urlaubstag) | B31: 1 | C31: 1 | D31: 0 | E31: 0 | F31: 1 | G31: 1 | H31: 1 | I31: 1 | J31: 1 | K31: 0 | L31: 0 | M31: 1 | N31: 1 | O31: 1 | P31: 1 | Q31: 1 | R31: 0 | S31: 0 | T31: 1 | U31: 1 | V31: 1 | W31: 1 | X31: 1 | Y31: 0 | Z31: 0 | AA31: 1 | AB31: 1 | AC31: 1 | AD31: 1 | AE31: 1 | AF31: 0
A33: Urlaubsplaner von irot Time · irot.com/zeit · Urlaub, Feiertage und Arbeitszeit an einer Stelle

Sheet August
A1: Urlaubsplaner August 2027
A2: U = Urlaub · H = halber Urlaubstag · K = krank
A3: Mitarbeiter | B3: 1 | C3: 2 | D3: 3 | E3: 4 | F3: 5 | G3: 6 | H3: 7 | I3: 8 | J3: 9 | K3: 10 | L3: 11 | M3: 12 | N3: 13 | O3: 14 | P3: 15 | Q3: 16 | R3: 17 | S3: 18 | T3: 19 | U3: 20 | V3: 21 | W3: 22 | X3: 23 | Y3: 24 | Z3: 25 | AA3: 26 | AB3: 27 | AC3: 28 | AD3: 29 | AE3: 30 | AF3: 31 | AG3: Urlaub | AH3: Krank
B4: So | C4: Mo | D4: Di | E4: Mi | F4: Do | G4: Fr | H4: Sa | I4: So | J4: Mo | K4: Di | L4: Mi | M4: Do | N4: Fr | O4: Sa | P4: So | Q4: Mo | R4: Di | S4: Mi | T4: Do | U4: Fr | V4: Sa | W4: So | X4: Mo | Y4: Di | Z4: Mi | AA4: Do | AB4: Fr | AC4: Sa | AD4: So | AE4: Mo | AF4: Di | AG4: Tage | AH4: Tage
A5: =IF('Übersicht'!A6="","",'Übersicht'!A6) | AG5: =SUMPRODUCT((B5:AF5="U")*B$31:AF$31)+SUMPRODUCT((B5:AF5="H")*B$31:AF$31)/2 | AH5: =COUNTIF(B5:AF5,"K")
A6: =IF('Übersicht'!A7="","",'Übersicht'!A7) | AG6: =SUMPRODUCT((B6:AF6="U")*B$31:AF$31)+SUMPRODUCT((B6:AF6="H")*B$31:AF$31)/2 | AH6: =COUNTIF(B6:AF6,"K")
A7: =IF('Übersicht'!A8="","",'Übersicht'!A8) | AG7: =SUMPRODUCT((B7:AF7="U")*B$31:AF$31)+SUMPRODUCT((B7:AF7="H")*B$31:AF$31)/2 | AH7: =COUNTIF(B7:AF7,"K")
A8: =IF('Übersicht'!A9="","",'Übersicht'!A9) | AG8: =SUMPRODUCT((B8:AF8="U")*B$31:AF$31)+SUMPRODUCT((B8:AF8="H")*B$31:AF$31)/2 | AH8: =COUNTIF(B8:AF8,"K")
A9: =IF('Übersicht'!A10="","",'Übersicht'!A10) | AG9: =SUMPRODUCT((B9:AF9="U")*B$31:AF$31)+SUMPRODUCT((B9:AF9="H")*B$31:AF$31)/2 | AH9: =COUNTIF(B9:AF9,"K")
A10: =IF('Übersicht'!A11="","",'Übersicht'!A11) | AG10: =SUMPRODUCT((B10:AF10="U")*B$31:AF$31)+SUMPRODUCT((B10:AF10="H")*B$31:AF$31)/2 | AH10: =COUNTIF(B10:AF10,"K")
A11: =IF('Übersicht'!A12="","",'Übersicht'!A12) | AG11: =SUMPRODUCT((B11:AF11="U")*B$31:AF$31)+SUMPRODUCT((B11:AF11="H")*B$31:AF$31)/2 | AH11: =COUNTIF(B11:AF11,"K")
A12: =IF('Übersicht'!A13="","",'Übersicht'!A13) | AG12: =SUMPRODUCT((B12:AF12="U")*B$31:AF$31)+SUMPRODUCT((B12:AF12="H")*B$31:AF$31)/2 | AH12: =COUNTIF(B12:AF12,"K")
A13: =IF('Übersicht'!A14="","",'Übersicht'!A14) | AG13: =SUMPRODUCT((B13:AF13="U")*B$31:AF$31)+SUMPRODUCT((B13:AF13="H")*B$31:AF$31)/2 | AH13: =COUNTIF(B13:AF13,"K")
A14: =IF('Übersicht'!A15="","",'Übersicht'!A15) | AG14: =SUMPRODUCT((B14:AF14="U")*B$31:AF$31)+SUMPRODUCT((B14:AF14="H")*B$31:AF$31)/2 | AH14: =COUNTIF(B14:AF14,"K")
A15: =IF('Übersicht'!A16="","",'Übersicht'!A16) | AG15: =SUMPRODUCT((B15:AF15="U")*B$31:AF$31)+SUMPRODUCT((B15:AF15="H")*B$31:AF$31)/2 | AH15: =COUNTIF(B15:AF15,"K")
A16: =IF('Übersicht'!A17="","",'Übersicht'!A17) | AG16: =SUMPRODUCT((B16:AF16="U")*B$31:AF$31)+SUMPRODUCT((B16:AF16="H")*B$31:AF$31)/2 | AH16: =COUNTIF(B16:AF16,"K")
... A29: =IF('Übersicht'!A30="","",'Übersicht'!A30) | AG29: =SUMPRODUCT((B29:AF29="U")*B$31:AF$31)+SUMPRODUCT((B29:AF29="H")*B$31:AF$31)/2 | AH29: =COUNTIF(B29:AF29,"K")
A31: Arbeitstag (1 = zählt als Urlaubstag) | B31: 0 | C31: 1 | D31: 1 | E31: 1 | F31: 1 | G31: 1 | H31: 0 | I31: 0 | J31: 1 | K31: 1 | L31: 1 | M31: 1 | N31: 1 | O31: 0 | P31: 0 | Q31: 1 | R31: 1 | S31: 1 | T31: 1 | U31: 1 | V31: 0 | W31: 0 | X31: 1 | Y31: 1 | Z31: 1 | AA31: 1 | AB31: 1 | AC31: 0 | AD31: 0 | AE31: 1 | AF31: 1
A33: Urlaubsplaner von irot Time · irot.com/zeit · Urlaub, Feiertage und Arbeitszeit an einer Stelle

Sheet September
A1: Urlaubsplaner September 2027
A2: U = Urlaub · H = halber Urlaubstag · K = krank
A3: Mitarbeiter | B3: 1 | C3: 2 | D3: 3 | E3: 4 | F3: 5 | G3: 6 | H3: 7 | I3: 8 | J3: 9 | K3: 10 | L3: 11 | M3: 12 | N3: 13 | O3: 14 | P3: 15 | Q3: 16 | R3: 17 | S3: 18 | T3: 19 | U3: 20 | V3: 21 | W3: 22 | X3: 23 | Y3: 24 | Z3: 25 | AA3: 26 | AB3: 27 | AC3: 28 | AD3: 29 | AE3: 30 | AF3: Urlaub | AG3: Krank
B4: Mi | C4: Do | D4: Fr | E4: Sa | F4: So | G4: Mo | H4: Di | I4: Mi | J4: Do | K4: Fr | L4: Sa | M4: So | N4: Mo | O4: Di | P4: Mi | Q4: Do | R4: Fr | S4: Sa | T4: So | U4: Mo | V4: Di | W4: Mi | X4: Do | Y4: Fr | Z4: Sa | AA4: So | AB4: Mo | AC4: Di | AD4: Mi | AE4: Do | AF4: Tage | AG4: Tage
A5: =IF('Übersicht'!A6="","",'Übersicht'!A6) | AF5: =SUMPRODUCT((B5:AE5="U")*B$31:AE$31)+SUMPRODUCT((B5:AE5="H")*B$31:AE$31)/2 | AG5: =COUNTIF(B5:AE5,"K")
A6: =IF('Übersicht'!A7="","",'Übersicht'!A7) | AF6: =SUMPRODUCT((B6:AE6="U")*B$31:AE$31)+SUMPRODUCT((B6:AE6="H")*B$31:AE$31)/2 | AG6: =COUNTIF(B6:AE6,"K")
A7: =IF('Übersicht'!A8="","",'Übersicht'!A8) | AF7: =SUMPRODUCT((B7:AE7="U")*B$31:AE$31)+SUMPRODUCT((B7:AE7="H")*B$31:AE$31)/2 | AG7: =COUNTIF(B7:AE7,"K")
A8: =IF('Übersicht'!A9="","",'Übersicht'!A9) | AF8: =SUMPRODUCT((B8:AE8="U")*B$31:AE$31)+SUMPRODUCT((B8:AE8="H")*B$31:AE$31)/2 | AG8: =COUNTIF(B8:AE8,"K")
A9: =IF('Übersicht'!A10="","",'Übersicht'!A10) | AF9: =SUMPRODUCT((B9:AE9="U")*B$31:AE$31)+SUMPRODUCT((B9:AE9="H")*B$31:AE$31)/2 | AG9: =COUNTIF(B9:AE9,"K")
A10: =IF('Übersicht'!A11="","",'Übersicht'!A11) | AF10: =SUMPRODUCT((B10:AE10="U")*B$31:AE$31)+SUMPRODUCT((B10:AE10="H")*B$31:AE$31)/2 | AG10: =COUNTIF(B10:AE10,"K")
A11: =IF('Übersicht'!A12="","",'Übersicht'!A12) | AF11: =SUMPRODUCT((B11:AE11="U")*B$31:AE$31)+SUMPRODUCT((B11:AE11="H")*B$31:AE$31)/2 | AG11: =COUNTIF(B11:AE11,"K")
A12: =IF('Übersicht'!A13="","",'Übersicht'!A13) | AF12: =SUMPRODUCT((B12:AE12="U")*B$31:AE$31)+SUMPRODUCT((B12:AE12="H")*B$31:AE$31)/2 | AG12: =COUNTIF(B12:AE12,"K")
A13: =IF('Übersicht'!A14="","",'Übersicht'!A14) | AF13: =SUMPRODUCT((B13:AE13="U")*B$31:AE$31)+SUMPRODUCT((B13:AE13="H")*B$31:AE$31)/2 | AG13: =COUNTIF(B13:AE13,"K")
A14: =IF('Übersicht'!A15="","",'Übersicht'!A15) | AF14: =SUMPRODUCT((B14:AE14="U")*B$31:AE$31)+SUMPRODUCT((B14:AE14="H")*B$31:AE$31)/2 | AG14: =COUNTIF(B14:AE14,"K")
A15: =IF('Übersicht'!A16="","",'Übersicht'!A16) | AF15: =SUMPRODUCT((B15:AE15="U")*B$31:AE$31)+SUMPRODUCT((B15:AE15="H")*B$31:AE$31)/2 | AG15: =COUNTIF(B15:AE15,"K")
A16: =IF('Übersicht'!A17="","",'Übersicht'!A17) | AF16: =SUMPRODUCT((B16:AE16="U")*B$31:AE$31)+SUMPRODUCT((B16:AE16="H")*B$31:AE$31)/2 | AG16: =COUNTIF(B16:AE16,"K")
... A29: =IF('Übersicht'!A30="","",'Übersicht'!A30) | AF29: =SUMPRODUCT((B29:AE29="U")*B$31:AE$31)+SUMPRODUCT((B29:AE29="H")*B$31:AE$31)/2 | AG29: =COUNTIF(B29:AE29,"K")
A31: Arbeitstag (1 = zählt als Urlaubstag) | B31: 1 | C31: 1 | D31: 1 | E31: 0 | F31: 0 | G31: 1 | H31: 1 | I31: 1 | J31: 1 | K31: 1 | L31: 0 | M31: 0 | N31: 1 | O31: 1 | P31: 1 | Q31: 1 | R31: 1 | S31: 0 | T31: 0 | U31: 1 | V31: 1 | W31: 1 | X31: 1 | Y31: 1 | Z31: 0 | AA31: 0 | AB31: 1 | AC31: 1 | AD31: 1 | AE31: 1
A33: Urlaubsplaner von irot Time · irot.com/zeit · Urlaub, Feiertage und Arbeitszeit an einer Stelle

Sheet Oktober
A1: Urlaubsplaner Oktober 2027
A2: U = Urlaub · H = halber Urlaubstag · K = krank · Feiertage: 3. Tag der Deutschen Einheit · 31. Reformationstag
A3: Mitarbeiter | B3: 1 | C3: 2 | D3: 3 | E3: 4 | F3: 5 | G3: 6 | H3: 7 | I3: 8 | J3: 9 | K3: 10 | L3: 11 | M3: 12 | N3: 13 | O3: 14 | P3: 15 | Q3: 16 | R3: 17 | S3: 18 | T3: 19 | U3: 20 | V3: 21 | W3: 22 | X3: 23 | Y3: 24 | Z3: 25 | AA3: 26 | AB3: 27 | AC3: 28 | AD3: 29 | AE3: 30 | AF3: 31 | AG3: Urlaub | AH3: Krank
B4: Fr | C4: Sa | D4: So | E4: Mo | F4: Di | G4: Mi | H4: Do | I4: Fr | J4: Sa | K4: So | L4: Mo | M4: Di | N4: Mi | O4: Do | P4: Fr | Q4: Sa | R4: So | S4: Mo | T4: Di | U4: Mi | V4: Do | W4: Fr | X4: Sa | Y4: So | Z4: Mo | AA4: Di | AB4: Mi | AC4: Do | AD4: Fr | AE4: Sa | AF4: So | AG4: Tage | AH4: Tage
A5: =IF('Übersicht'!A6="","",'Übersicht'!A6) | AG5: =SUMPRODUCT((B5:AF5="U")*B$31:AF$31)+SUMPRODUCT((B5:AF5="H")*B$31:AF$31)/2 | AH5: =COUNTIF(B5:AF5,"K")
A6: =IF('Übersicht'!A7="","",'Übersicht'!A7) | AG6: =SUMPRODUCT((B6:AF6="U")*B$31:AF$31)+SUMPRODUCT((B6:AF6="H")*B$31:AF$31)/2 | AH6: =COUNTIF(B6:AF6,"K")
A7: =IF('Übersicht'!A8="","",'Übersicht'!A8) | AG7: =SUMPRODUCT((B7:AF7="U")*B$31:AF$31)+SUMPRODUCT((B7:AF7="H")*B$31:AF$31)/2 | AH7: =COUNTIF(B7:AF7,"K")
A8: =IF('Übersicht'!A9="","",'Übersicht'!A9) | AG8: =SUMPRODUCT((B8:AF8="U")*B$31:AF$31)+SUMPRODUCT((B8:AF8="H")*B$31:AF$31)/2 | AH8: =COUNTIF(B8:AF8,"K")
A9: =IF('Übersicht'!A10="","",'Übersicht'!A10) | AG9: =SUMPRODUCT((B9:AF9="U")*B$31:AF$31)+SUMPRODUCT((B9:AF9="H")*B$31:AF$31)/2 | AH9: =COUNTIF(B9:AF9,"K")
A10: =IF('Übersicht'!A11="","",'Übersicht'!A11) | AG10: =SUMPRODUCT((B10:AF10="U")*B$31:AF$31)+SUMPRODUCT((B10:AF10="H")*B$31:AF$31)/2 | AH10: =COUNTIF(B10:AF10,"K")
A11: =IF('Übersicht'!A12="","",'Übersicht'!A12) | AG11: =SUMPRODUCT((B11:AF11="U")*B$31:AF$31)+SUMPRODUCT((B11:AF11="H")*B$31:AF$31)/2 | AH11: =COUNTIF(B11:AF11,"K")
A12: =IF('Übersicht'!A13="","",'Übersicht'!A13) | AG12: =SUMPRODUCT((B12:AF12="U")*B$31:AF$31)+SUMPRODUCT((B12:AF12="H")*B$31:AF$31)/2 | AH12: =COUNTIF(B12:AF12,"K")
A13: =IF('Übersicht'!A14="","",'Übersicht'!A14) | AG13: =SUMPRODUCT((B13:AF13="U")*B$31:AF$31)+SUMPRODUCT((B13:AF13="H")*B$31:AF$31)/2 | AH13: =COUNTIF(B13:AF13,"K")
A14: =IF('Übersicht'!A15="","",'Übersicht'!A15) | AG14: =SUMPRODUCT((B14:AF14="U")*B$31:AF$31)+SUMPRODUCT((B14:AF14="H")*B$31:AF$31)/2 | AH14: =COUNTIF(B14:AF14,"K")
A15: =IF('Übersicht'!A16="","",'Übersicht'!A16) | AG15: =SUMPRODUCT((B15:AF15="U")*B$31:AF$31)+SUMPRODUCT((B15:AF15="H")*B$31:AF$31)/2 | AH15: =COUNTIF(B15:AF15,"K")
A16: =IF('Übersicht'!A17="","",'Übersicht'!A17) | AG16: =SUMPRODUCT((B16:AF16="U")*B$31:AF$31)+SUMPRODUCT((B16:AF16="H")*B$31:AF$31)/2 | AH16: =COUNTIF(B16:AF16,"K")
... A29: =IF('Übersicht'!A30="","",'Übersicht'!A30) | AG29: =SUMPRODUCT((B29:AF29="U")*B$31:AF$31)+SUMPRODUCT((B29:AF29="H")*B$31:AF$31)/2 | AH29: =COUNTIF(B29:AF29,"K")
A31: Arbeitstag (1 = zählt als Urlaubstag) | B31: 1 | C31: 0 | D31: 0 | E31: 1 | F31: 1 | G31: 1 | H31: 1 | I31: 1 | J31: 0 | K31: 0 | L31: 1 | M31: 1 | N31: 1 | O31: 1 | P31: 1 | Q31: 0 | R31: 0 | S31: 1 | T31: 1 | U31: 1 | V31: 1 | W31: 1 | X31: 0 | Y31: 0 | Z31: 1 | AA31: 1 | AB31: 1 | AC31: 1 | AD31: 1 | AE31: 0 | AF31: 0
A33: Urlaubsplaner von irot Time · irot.com/zeit · Urlaub, Feiertage und Arbeitszeit an einer Stelle

Sheet November
A1: Urlaubsplaner November 2027
A2: U = Urlaub · H = halber Urlaubstag · K = krank
A3: Mitarbeiter | B3: 1 | C3: 2 | D3: 3 | E3: 4 | F3: 5 | G3: 6 | H3: 7 | I3: 8 | J3: 9 | K3: 10 | L3: 11 | M3: 12 | N3: 13 | O3: 14 | P3: 15 | Q3: 16 | R3: 17 | S3: 18 | T3: 19 | U3: 20 | V3: 21 | W3: 22 | X3: 23 | Y3: 24 | Z3: 25 | AA3: 26 | AB3: 27 | AC3: 28 | AD3: 29 | AE3: 30 | AF3: Urlaub | AG3: Krank
B4: Mo | C4: Di | D4: Mi | E4: Do | F4: Fr | G4: Sa | H4: So | I4: Mo | J4: Di | K4: Mi | L4: Do | M4: Fr | N4: Sa | O4: So | P4: Mo | Q4: Di | R4: Mi | S4: Do | T4: Fr | U4: Sa | V4: So | W4: Mo | X4: Di | Y4: Mi | Z4: Do | AA4: Fr | AB4: Sa | AC4: So | AD4: Mo | AE4: Di | AF4: Tage | AG4: Tage
A5: =IF('Übersicht'!A6="","",'Übersicht'!A6) | AF5: =SUMPRODUCT((B5:AE5="U")*B$31:AE$31)+SUMPRODUCT((B5:AE5="H")*B$31:AE$31)/2 | AG5: =COUNTIF(B5:AE5,"K")
A6: =IF('Übersicht'!A7="","",'Übersicht'!A7) | AF6: =SUMPRODUCT((B6:AE6="U")*B$31:AE$31)+SUMPRODUCT((B6:AE6="H")*B$31:AE$31)/2 | AG6: =COUNTIF(B6:AE6,"K")
A7: =IF('Übersicht'!A8="","",'Übersicht'!A8) | AF7: =SUMPRODUCT((B7:AE7="U")*B$31:AE$31)+SUMPRODUCT((B7:AE7="H")*B$31:AE$31)/2 | AG7: =COUNTIF(B7:AE7,"K")
A8: =IF('Übersicht'!A9="","",'Übersicht'!A9) | AF8: =SUMPRODUCT((B8:AE8="U")*B$31:AE$31)+SUMPRODUCT((B8:AE8="H")*B$31:AE$31)/2 | AG8: =COUNTIF(B8:AE8,"K")
A9: =IF('Übersicht'!A10="","",'Übersicht'!A10) | AF9: =SUMPRODUCT((B9:AE9="U")*B$31:AE$31)+SUMPRODUCT((B9:AE9="H")*B$31:AE$31)/2 | AG9: =COUNTIF(B9:AE9,"K")
A10: =IF('Übersicht'!A11="","",'Übersicht'!A11) | AF10: =SUMPRODUCT((B10:AE10="U")*B$31:AE$31)+SUMPRODUCT((B10:AE10="H")*B$31:AE$31)/2 | AG10: =COUNTIF(B10:AE10,"K")
A11: =IF('Übersicht'!A12="","",'Übersicht'!A12) | AF11: =SUMPRODUCT((B11:AE11="U")*B$31:AE$31)+SUMPRODUCT((B11:AE11="H")*B$31:AE$31)/2 | AG11: =COUNTIF(B11:AE11,"K")
A12: =IF('Übersicht'!A13="","",'Übersicht'!A13) | AF12: =SUMPRODUCT((B12:AE12="U")*B$31:AE$31)+SUMPRODUCT((B12:AE12="H")*B$31:AE$31)/2 | AG12: =COUNTIF(B12:AE12,"K")
A13: =IF('Übersicht'!A14="","",'Übersicht'!A14) | AF13: =SUMPRODUCT((B13:AE13="U")*B$31:AE$31)+SUMPRODUCT((B13:AE13="H")*B$31:AE$31)/2 | AG13: =COUNTIF(B13:AE13,"K")
A14: =IF('Übersicht'!A15="","",'Übersicht'!A15) | AF14: =SUMPRODUCT((B14:AE14="U")*B$31:AE$31)+SUMPRODUCT((B14:AE14="H")*B$31:AE$31)/2 | AG14: =COUNTIF(B14:AE14,"K")
A15: =IF('Übersicht'!A16="","",'Übersicht'!A16) | AF15: =SUMPRODUCT((B15:AE15="U")*B$31:AE$31)+SUMPRODUCT((B15:AE15="H")*B$31:AE$31)/2 | AG15: =COUNTIF(B15:AE15,"K")
A16: =IF('Übersicht'!A17="","",'Übersicht'!A17) | AF16: =SUMPRODUCT((B16:AE16="U")*B$31:AE$31)+SUMPRODUCT((B16:AE16="H")*B$31:AE$31)/2 | AG16: =COUNTIF(B16:AE16,"K")
... A29: =IF('Übersicht'!A30="","",'Übersicht'!A30) | AF29: =SUMPRODUCT((B29:AE29="U")*B$31:AE$31)+SUMPRODUCT((B29:AE29="H")*B$31:AE$31)/2 | AG29: =COUNTIF(B29:AE29,"K")
A31: Arbeitstag (1 = zählt als Urlaubstag) | B31: 1 | C31: 1 | D31: 1 | E31: 1 | F31: 1 | G31: 0 | H31: 0 | I31: 1 | J31: 1 | K31: 1 | L31: 1 | M31: 1 | N31: 0 | O31: 0 | P31: 1 | Q31: 1 | R31: 1 | S31: 1 | T31: 1 | U31: 0 | V31: 0 | W31: 1 | X31: 1 | Y31: 1 | Z31: 1 | AA31: 1 | AB31: 0 | AC31: 0 | AD31: 1 | AE31: 1
A33: Urlaubsplaner von irot Time · irot.com/zeit · Urlaub, Feiertage und Arbeitszeit an einer Stelle

Sheet Dezember
A1: Urlaubsplaner Dezember 2027
A2: U = Urlaub · H = halber Urlaubstag · K = krank · Feiertage: 25. 1. Weihnachtstag · 26. 2. Weihnachtstag
A3: Mitarbeiter | B3: 1 | C3: 2 | D3: 3 | E3: 4 | F3: 5 | G3: 6 | H3: 7 | I3: 8 | J3: 9 | K3: 10 | L3: 11 | M3: 12 | N3: 13 | O3: 14 | P3: 15 | Q3: 16 | R3: 17 | S3: 18 | T3: 19 | U3: 20 | V3: 21 | W3: 22 | X3: 23 | Y3: 24 | Z3: 25 | AA3: 26 | AB3: 27 | AC3: 28 | AD3: 29 | AE3: 30 | AF3: 31 | AG3: Urlaub | AH3: Krank
B4: Mi | C4: Do | D4: Fr | E4: Sa | F4: So | G4: Mo | H4: Di | I4: Mi | J4: Do | K4: Fr | L4: Sa | M4: So | N4: Mo | O4: Di | P4: Mi | Q4: Do | R4: Fr | S4: Sa | T4: So | U4: Mo | V4: Di | W4: Mi | X4: Do | Y4: Fr | Z4: Sa | AA4: So | AB4: Mo | AC4: Di | AD4: Mi | AE4: Do | AF4: Fr | AG4: Tage | AH4: Tage
A5: =IF('Übersicht'!A6="","",'Übersicht'!A6) | AG5: =SUMPRODUCT((B5:AF5="U")*B$31:AF$31)+SUMPRODUCT((B5:AF5="H")*B$31:AF$31)/2 | AH5: =COUNTIF(B5:AF5,"K")
A6: =IF('Übersicht'!A7="","",'Übersicht'!A7) | AG6: =SUMPRODUCT((B6:AF6="U")*B$31:AF$31)+SUMPRODUCT((B6:AF6="H")*B$31:AF$31)/2 | AH6: =COUNTIF(B6:AF6,"K")
A7: =IF('Übersicht'!A8="","",'Übersicht'!A8) | AG7: =SUMPRODUCT((B7:AF7="U")*B$31:AF$31)+SUMPRODUCT((B7:AF7="H")*B$31:AF$31)/2 | AH7: =COUNTIF(B7:AF7,"K")
A8: =IF('Übersicht'!A9="","",'Übersicht'!A9) | AG8: =SUMPRODUCT((B8:AF8="U")*B$31:AF$31)+SUMPRODUCT((B8:AF8="H")*B$31:AF$31)/2 | AH8: =COUNTIF(B8:AF8,"K")
A9: =IF('Übersicht'!A10="","",'Übersicht'!A10) | AG9: =SUMPRODUCT((B9:AF9="U")*B$31:AF$31)+SUMPRODUCT((B9:AF9="H")*B$31:AF$31)/2 | AH9: =COUNTIF(B9:AF9,"K")
A10: =IF('Übersicht'!A11="","",'Übersicht'!A11) | AG10: =SUMPRODUCT((B10:AF10="U")*B$31:AF$31)+SUMPRODUCT((B10:AF10="H")*B$31:AF$31)/2 | AH10: =COUNTIF(B10:AF10,"K")
A11: =IF('Übersicht'!A12="","",'Übersicht'!A12) | AG11: =SUMPRODUCT((B11:AF11="U")*B$31:AF$31)+SUMPRODUCT((B11:AF11="H")*B$31:AF$31)/2 | AH11: =COUNTIF(B11:AF11,"K")
A12: =IF('Übersicht'!A13="","",'Übersicht'!A13) | AG12: =SUMPRODUCT((B12:AF12="U")*B$31:AF$31)+SUMPRODUCT((B12:AF12="H")*B$31:AF$31)/2 | AH12: =COUNTIF(B12:AF12,"K")
A13: =IF('Übersicht'!A14="","",'Übersicht'!A14) | AG13: =SUMPRODUCT((B13:AF13="U")*B$31:AF$31)+SUMPRODUCT((B13:AF13="H")*B$31:AF$31)/2 | AH13: =COUNTIF(B13:AF13,"K")
A14: =IF('Übersicht'!A15="","",'Übersicht'!A15) | AG14: =SUMPRODUCT((B14:AF14="U")*B$31:AF$31)+SUMPRODUCT((B14:AF14="H")*B$31:AF$31)/2 | AH14: =COUNTIF(B14:AF14,"K")
A15: =IF('Übersicht'!A16="","",'Übersicht'!A16) | AG15: =SUMPRODUCT((B15:AF15="U")*B$31:AF$31)+SUMPRODUCT((B15:AF15="H")*B$31:AF$31)/2 | AH15: =COUNTIF(B15:AF15,"K")
A16: =IF('Übersicht'!A17="","",'Übersicht'!A17) | AG16: =SUMPRODUCT((B16:AF16="U")*B$31:AF$31)+SUMPRODUCT((B16:AF16="H")*B$31:AF$31)/2 | AH16: =COUNTIF(B16:AF16,"K")
... A29: =IF('Übersicht'!A30="","",'Übersicht'!A30) | AG29: =SUMPRODUCT((B29:AF29="U")*B$31:AF$31)+SUMPRODUCT((B29:AF29="H")*B$31:AF$31)/2 | AH29: =COUNTIF(B29:AF29,"K")
A31: Arbeitstag (1 = zählt als Urlaubstag) | B31: 1 | C31: 1 | D31: 1 | E31: 0 | F31: 0 | G31: 1 | H31: 1 | I31: 1 | J31: 1 | K31: 1 | L31: 0 | M31: 0 | N31: 1 | O31: 1 | P31: 1 | Q31: 1 | R31: 1 | S31: 0 | T31: 0 | U31: 1 | V31: 1 | W31: 1 | X31: 1 | Y31: 1 | Z31: 0 | AA31: 0 | AB31: 1 | AC31: 1 | AD31: 1 | AE31: 1 | AF31: 1
A33: Urlaubsplaner von irot Time · irot.com/zeit · Urlaub, Feiertage und Arbeitszeit an einer Stelle
